BEGIN:VCALENDAR
VERSION:2.0
PRODID:icalendar-ruby
CALSCALE:GREGORIAN
METHOD:PUBLISH
BEGIN:VEVENT
DTSTAMP:20260422T180347Z
UID:10-1909000@shelbyvilleupc.com
DTSTART:20261013T160000Z
DTEND:20261013T170000Z
CLASS:PUBLIC
CREATED:20260422T123431
DESCRIPTION:
LAST-MODIFIED:20260422T123431
LOCATION:
SUMMARY:Ladies Prayer
URL;VALUE=URI:https://shelbyvilleupc.com/events/ladies-prayer/2026-10-13
END:VEVENT
END:VCALENDAR
