BEGIN:VCALENDAR
VERSION:2.0
PRODID:icalendar-ruby
CALSCALE:GREGORIAN
METHOD:PUBLISH
BEGIN:VEVENT
DTSTAMP:20260424T222715Z
UID:14-1923252@shelbyvilleupc.com
DTSTART:20261018T150000Z
DTEND:20261018T154500Z
CLASS:PUBLIC
CREATED:20260424T151353
DESCRIPTION:
LAST-MODIFIED:20260424T151353
LOCATION:
SUMMARY:Sunday School
URL;VALUE=URI:https://shelbyvilleupc.com/events/sunday-school/2026-10-18
END:VEVENT
END:VCALENDAR
