BEGIN:VCALENDAR
VERSION:2.0
PRODID:icalendar-ruby
CALSCALE:GREGORIAN
METHOD:PUBLISH
BEGIN:VEVENT
DTSTAMP:20260425T001956Z
UID:14-1924320@shelbyvilleupc.com
DTSTART:20261025T150000Z
DTEND:20261025T154500Z
CLASS:PUBLIC
CREATED:20260424T180141
DESCRIPTION:
LAST-MODIFIED:20260424T180141
LOCATION:
SUMMARY:Sunday School
URL;VALUE=URI:https://shelbyvilleupc.com/events/sunday-school/2026-10-25
END:VEVENT
END:VCALENDAR
